BEGIN:VCALENDAR
VERSION:2.0
PRODID:-//Australian Ice Racing - ECPv6.15.20//NONSGML v1.0//EN
CALSCALE:GREGORIAN
METHOD:PUBLISH
X-ORIGINAL-URL:https://australianiceracing.org
X-WR-CALDESC:Events for Australian Ice Racing
REFRESH-INTERVAL;VALUE=DURATION:PT1H
X-Robots-Tag:noindex
X-PUBLISHED-TTL:PT1H
BEGIN:VTIMEZONE
TZID:UTC
BEGIN:STANDARD
TZOFFSETFROM:+0000
TZOFFSETTO:+0000
TZNAME:UTC
DTSTART:20240101T000000
END:STANDARD
END:VTIMEZONE
BEGIN:VEVENT
DTSTART;VALUE=DATE:20260203
DTEND;VALUE=DATE:20260217
DTSTAMP:20260420T145955
CREATED:20251219T042203Z
LAST-MODIFIED:20251219T042203Z
UID:2868-1770076800-1771286399@australianiceracing.org
SUMMARY:Road to Ice Camp - Netherlands
DESCRIPTION:  \n  \nPlease see the details in link below: \nClick to access Road-to-Ice-Camp-2026-1-3.pdf
URL:https://australianiceracing.org/event/road-to-ice-camp-netherlands/
LOCATION:Thialf\, Netherlands
END:VEVENT
BEGIN:VEVENT
DTSTART;TZID=UTC:20251011T120000
DTEND;TZID=UTC:20251011T130000
DTSTAMP:20260420T145955
CREATED:20251006T083209Z
LAST-MODIFIED:20251006T091345Z
UID:2726-1760184000-1760187600@australianiceracing.org
SUMMARY:Come and Try Racing - Participation Event
DESCRIPTION:Details and Registration link  :     Come and Try Short Track Races
URL:https://australianiceracing.org/event/come-and-try-racing-participation-event/
LOCATION:O’Brien Group Arena\, 105 Pearl River Road\, Docklands\, Victoria\, 3008\, Australia
END:VEVENT
BEGIN:VEVENT
DTSTART;TZID=UTC:20251010T080000
DTEND;TZID=UTC:20251012T170000
DTSTAMP:20260420T145955
CREATED:20241124T072620Z
LAST-MODIFIED:20251024T003200Z
UID:2324-1760083200-1760288400@australianiceracing.org
SUMMARY:2025 Australian Open Championships
DESCRIPTION:Announcement here  \nIndividual entry link here \n2025  Australian Open Official Program  link : 2025 Australian Ice Racing Championships Official Program \n1st-bracket-race-draw \nEven Protocol : 2025 Australian Championships Protocol \n  \nLive stream : \n\n\n\nDay 1 – Australian Championships Short Track 2025 Day 1\n\n\nDay 2 – Australian Championships Short Track 2025 Day 2\n\n\nDay 3 – Australian Championships Short Track 2025 Day 3\n\n\n\n\n\n\n\nTHURSDAY OCTOBER 9th TRAINING: ($25 all divisions) \nJunior C\, D\, E and F:  5.30pm to 6.30pm \nJunior A and B\, Senior and Master:   6.45pm to 7.45pm
URL:https://australianiceracing.org/event/2025-australian-championships/
LOCATION:O’Brien Group Arena\, 105 Pearl River Road\, Docklands\, Victoria\, 3008\, Australia
END:VEVENT
BEGIN:VEVENT
DTSTART;TZID=UTC:20251009T090000
DTEND;TZID=UTC:20251012T113000
DTSTAMP:20260420T145955
CREATED:20250831T144908Z
LAST-MODIFIED:20250831T144958Z
UID:2687-1760000400-1760268600@australianiceracing.org
SUMMARY:2025 Officials Seminar
DESCRIPTION:There will be an Officials Seminar  running in conjunction with the 2025 Australian Short Track Championships\, the seminar starts the day before on Oct 9th details : 2025 Officials Seminar \n 
URL:https://australianiceracing.org/event/2025-officials-seminar/
LOCATION:O’Brien Group Arena\, 105 Pearl River Road\, Docklands\, Victoria\, 3008\, Australia
END:VEVENT
BEGIN:VEVENT
DTSTART;TZID=UTC:20251007T080000
DTEND;TZID=UTC:20251009T170000
DTSTAMP:20260420T145955
CREATED:20241124T072338Z
LAST-MODIFIED:20250814T140351Z
UID:2322-1759824000-1760029200@australianiceracing.org
SUMMARY:Open Development Camp
DESCRIPTION:Open Development Camp to be held before  Australian Championships \nDates and Ice time confirmed \nDetails   here
URL:https://australianiceracing.org/event/national-development-camp-2/
LOCATION:O’Brien Group Arena\, 105 Pearl River Road\, Docklands\, Victoria\, 3008\, Australia
END:VEVENT
BEGIN:VEVENT
DTSTART;TZID=UTC:20250719T073000
DTEND;TZID=UTC:20250720T170000
DTSTAMP:20260420T145955
CREATED:20241124T043732Z
LAST-MODIFIED:20250718T113057Z
UID:2306-1752910200-1753030800@australianiceracing.org
SUMMARY:Duke Trophy 2025
DESCRIPTION:2025 Duke Trophy will be held at Erina Ice Arena – details below \nRound 1 draw  \n  \n  \nPractice ice: Friday 18th July 3:30pm to 5:30pm (practice ice fee $25 per skater\, state members will be invoiced for the number of skaters attended) \nPractice Ice schedule: \n– Junior B and C – 3.30pm to 4.15pm\n– ice resurface- 4.15pm to 4.30pm\n– Junior A\, seniors and masters – 4.30pm to 5.15pm\n– mats off – 5.15pm to 5.30pm\n  \nDay 1: Day 2: Saturday 19th July 7:30am to 11:00am \n3:30pm to 7:00pm \nSunday 20th July 7:00am to 11:00am (start time is \nsubject to the number of entries and races) \nNote Erina Rink Rules: \n\nThe “Race Registration” desk outside the Skate shop will have people available to help teams on Friday at the training session and on Saturday morning.  The board with the race draws will also be located near this desk.\nParents of skaters cannot accompany them into the heat box area.  This will be restricted to skaters\, officials\, coaches and the heat box volunteers only.\nOnly skaters aged under 18 years of age can go into the U18 change rooms.  Parents are not allowed into the U18 change rooms. This has been stipulated by the Erina Rink Management.\nThere is a designated area where parents can assist young skaters to put their skates on and take them off.  Please see the layout map\, this area is marked as the “Skate Tying Area’ and is just inside the doors to the rink.\nThere is a ‘no standing’ area behind the heat box.  This is so that there is clear access to the toilets and grandstands as required.  Please do not linger in this area.\nWarm up areas are outside the rink.  There are sheltered areas up the stairs from the main doors and plenty of area outside for warmup.\n\n\nPlease remind your skaters that they are not to get changed (clothing) outside the change rooms\, that is in the general rink area and grandstands.\n\n \n2025 Duke Trophy Event announcement \nUpdated Race program – 20250717
URL:https://australianiceracing.org/event/duke-trophy-2025/
LOCATION:Erina Ice Arena
END:VEVENT
BEGIN:VEVENT
DTSTART;TZID=UTC:20250710T063000
DTEND;TZID=UTC:20250713T223000
DTSTAMP:20260420T145955
CREATED:20250510T214124Z
LAST-MODIFIED:20250510T214124Z
UID:2523-1752129000-1752445800@australianiceracing.org
SUMMARY:AIR HP Camp - Docklands
DESCRIPTION:Tentative booking will update details when confirmation made : \nInvitation only – refer to AIR selection policy \nJuly 10\, 11\, 12 6:30am to 8:30am \nJuly 13 8:15am -10:15am \n  \n 
URL:https://australianiceracing.org/event/air-hp-camp-docklands/
END:VEVENT
END:VCALENDAR